BEGIN:VCALENDAR
VERSION:2.0
PRODID:-//Centro comercial Paraná - ECPv6.15.20//NONSGML v1.0//EN
CALSCALE:GREGORIAN
METHOD:PUBLISH
X-WR-CALNAME:Centro comercial Paraná
X-ORIGINAL-URL:https://centrocomercialparana.com.ar
X-WR-CALDESC:Eventos para Centro comercial Paraná
REFRESH-INTERVAL;VALUE=DURATION:PT1H
X-Robots-Tag:noindex
X-PUBLISHED-TTL:PT1H
BEGIN:VTIMEZONE
TZID:America/Argentina/Buenos_Aires
BEGIN:STANDARD
TZOFFSETFROM:-0300
TZOFFSETTO:-0300
TZNAME:-03
DTSTART:20250101T000000
END:STANDARD
END:VTIMEZONE
BEGIN:VEVENT
DTSTART;TZID=America/Argentina/Buenos_Aires:20260318T203000
DTEND;TZID=America/Argentina/Buenos_Aires:20260318T220000
DTSTAMP:20260423T195003
CREATED:20260305T173910Z
LAST-MODIFIED:20260305T174438Z
UID:12085-1773865800-1773871200@centrocomercialparana.com.ar
SUMMARY:TÉCNICAS DE ORATORIA PARA LOGRAR OBJETIVOS
DESCRIPTION:Destinado a profesionales y equipos de trabajo\, comerciantes\,\nemprendedores\, jefes de equipos de Pymes\, equipos de comunicación\,\nvendedores\, y todas las personas que deseen reforzar sus habilidades para\nhablar frente a un público. \nDe nuestra capacidad de transmitir bien nuestras ideas dependerá cuánto\néxito tengamos con ellas y cuánto éxito tengamos nosotros como\nindividuos. Por eso es clave comunicar de manera efectiva. \nEn nuestro trabajo cotidiano muchas veces debemos coordinar\, dirigir y\ntransmitir información para alcanzar objetivos. Independientemente de\nnuestro perfil profesional\, tenemos que ser capaces de comunicar\neficazmente. Y eso incluye hablar bien frente a otros para lograr el objetivo\nde ventas y promoción de productos y servicios. \nEn esta instancia la oratoria juega un rol fundamental\, y por eso es\nfundamental adquirir una serie de herramientas para desarrollar esta\nhabilidad\, reforzando las capacidades para expresarse correcta y felizmente\nfrente a un público\, compartiendo un mensaje claro\, concreto\,\ncontundente y\, tal como lo plantea Ariel Goldvarg en su libro Oratoria\nConsciente\, “lograr presentaciones orales que ilustren\, inspiren y\nsorprendan”. \nEJES TEMÁTICOS\n✔ La comunicación eficaz\n✔ Atributos de un buen orador para alcanzar objetivos.\n✔ Comunicación verbal y no verbal\n✔ Técnicas vocales y proyección de la voz para inspirar confianza\n✔ La importancia de una adecuada respiración \nINSCRIPCIONES: https://docs.google.com/forms/d/e/1FAIpQLSddXHcK_RbyI6O9w1dZKUZp7ccHrRf23_vhsHTXAu7HjNzEyg/viewform?usp=header
URL:https://centrocomercialparana.com.ar/eventos/tecnicas-de-oratoria-para-lograr-objetivos/
LOCATION:Cecip\, 25 de Mayo 28 - 1º piso\, Paraná\, Argentina
CATEGORIES:Capacitaciones
ATTACH;FMTTYPE=image/png:https://centrocomercialparana.com.ar/web/wp-content/uploads/2026/03/flayer-VE.png
END:VEVENT
END:VCALENDAR