BEGIN:VCALENDAR
VERSION:2.0
PRODID:-//Centro comercial Paraná - ECPv6.15.20//NONSGML v1.0//EN
CALSCALE:GREGORIAN
METHOD:PUBLISH
X-ORIGINAL-URL:https://centrocomercialparana.com.ar
X-WR-CALDESC:Eventos para Centro comercial Paraná
REFRESH-INTERVAL;VALUE=DURATION:PT1H
X-Robots-Tag:noindex
X-PUBLISHED-TTL:PT1H
BEGIN:VTIMEZONE
TZID:America/Argentina/Buenos_Aires
BEGIN:STANDARD
TZOFFSETFROM:-0300
TZOFFSETTO:-0300
TZNAME:-03
DTSTART:20240101T000000
END:STANDARD
END:VTIMEZONE
BEGIN:VEVENT
DTSTART;TZID=America/Argentina/Buenos_Aires:20250910T200000
DTEND;TZID=America/Argentina/Buenos_Aires:20250910T213000
DTSTAMP:20260424T015939
CREATED:20250904T222812Z
LAST-MODIFIED:20250905T182826Z
UID:11852-1757534400-1757539800@centrocomercialparana.com.ar
SUMMARY:Tu negocio en primera persona
DESCRIPTION:CÓMO COMUNICAR EN REDES Y PERDER EL MIEDO A LA CÁMARA \nCómo comunicar mejor en redes sociales\, cómo animarse a la cámara y perder el miedo a mostrarse como protagonistas de sus negocios. El objetivo del talles es que los participantes se lleven herramientas prácticas y que el mismo día empiecen a grabar sus primeros videos. \nFecha: 10 de septiembre \nHora: 20hs \nLugar. Cecip \nInscripciones: https://forms.gle/ZNhykLQXfQ8fhiF9A
URL:https://centrocomercialparana.com.ar/eventos/tu-negocio-en-primera-persona-como-comunicar-en-redes-y-perder-el-miedo-a-la-camara/
LOCATION:Cecip\, 25 de Mayo 28 - 1º piso\, Paraná\, Argentina
CATEGORIES:Capacitaciones
ATTACH;FMTTYPE=image/jpeg:https://centrocomercialparana.com.ar/web/wp-content/uploads/2025/09/tu-negocio-en-primera-persona.jpeg
END:VEVENT
END:VCALENDAR